BEGIN:VCALENDAR
VERSION:2.0
PRODID:-//HerHaus - ECPv6.15.20//NONSGML v1.0//EN
CALSCALE:GREGORIAN
METHOD:PUBLISH
X-WR-CALNAME:HerHaus
X-ORIGINAL-URL:https://herhaus.space
X-WR-CALDESC:Events for HerHaus
REFRESH-INTERVAL;VALUE=DURATION:PT1H
X-Robots-Tag:noindex
X-PUBLISHED-TTL:PT1H
BEGIN:VTIMEZONE
TZID:America/New_York
BEGIN:DAYLIGHT
TZOFFSETFROM:-0500
TZOFFSETTO:-0400
TZNAME:EDT
DTSTART:20240310T070000
END:DAYLIGHT
BEGIN:STANDARD
TZOFFSETFROM:-0400
TZOFFSETTO:-0500
TZNAME:EST
DTSTART:20241103T060000
END:STANDARD
BEGIN:DAYLIGHT
TZOFFSETFROM:-0500
TZOFFSETTO:-0400
TZNAME:EDT
DTSTART:20250309T070000
END:DAYLIGHT
BEGIN:STANDARD
TZOFFSETFROM:-0400
TZOFFSETTO:-0500
TZNAME:EST
DTSTART:20251102T060000
END:STANDARD
BEGIN:DAYLIGHT
TZOFFSETFROM:-0500
TZOFFSETTO:-0400
TZNAME:EDT
DTSTART:20260308T070000
END:DAYLIGHT
BEGIN:STANDARD
TZOFFSETFROM:-0400
TZOFFSETTO:-0500
TZNAME:EST
DTSTART:20261101T060000
END:STANDARD
BEGIN:DAYLIGHT
TZOFFSETFROM:-0500
TZOFFSETTO:-0400
TZNAME:EDT
DTSTART:20270314T070000
END:DAYLIGHT
BEGIN:STANDARD
TZOFFSETFROM:-0400
TZOFFSETTO:-0500
TZNAME:EST
DTSTART:20271107T060000
END:STANDARD
END:VTIMEZONE
BEGIN:VTIMEZONE
TZID:UTC
BEGIN:STANDARD
TZOFFSETFROM:+0000
TZOFFSETTO:+0000
TZNAME:UTC
DTSTART:20240101T000000
END:STANDARD
END:VTIMEZONE
BEGIN:VEVENT
DTSTART;TZID=America/New_York:20260206T120000
DTEND;TZID=America/New_York:20260206T140000
DTSTAMP:20260420T210313
CREATED:20251208T175805Z
LAST-MODIFIED:20260130T191154Z
UID:10000012-1770379200-1770386400@herhaus.space
SUMMARY:The "Why" of Your Vision
DESCRIPTION:This vision board and goal-setting meetup will guide participants in connecting their goals to their core sense of purpose\, using the Start with Why framework and the manifestation teachings of Sondra Kellogg. Hosted by HerHaus and led by HerHaus members\, Sondra Kellogg and Megan Early-Soppa\, this workshop will focus on achieving fulfillment and clarity for 2026.\n\nThis exclusive workshop is designed to move beyond traditional goal setting by first identifying your core purpose\, or “Why\,” a key concept from Simon Sinek’s book Start with Why and Finding Your Why. Transformational coach and spiritual educator Sondra Kellogg\, known for helping clients use their intuition to achieve joy and abundance\, will integrate her manifestation principles to help align your behavior and actions with your deepest values. Co-leader Megan Early-Soppa\, an experienced attorney and strategic advisor\, will share insights on applying strategic\, practical approaches to turn those visions into reality.\n\nThe workshop is a safe and supportive space to work through challenges\, share ideas\, and create a powerful vision for the coming year. Lunch will be served.\n\nWhat to Bring\nTo maximize your experience\, please come prepared with the following: \n\nA Framework of Goals: Bring 3 to 5 key goals you want to explore and work on for 2026.\nVision Board Medium\nCreative Assets: Gather graphics\, images\, and other creative items that represent your aspirations and inspiration.\nAn Open Mind: Be ready to connect\, share\, and support other high-performing\, ambitious women in the community.\n\nCost: $15 for lunch (Venmo)
URL:https://herhaus.space/event/the-why-of-your-vision/
LOCATION:VentureX\, 141 Traction St.\, Greenville\, SC\, 29609\, United States
CATEGORIES:Book Club,Pop-Up
END:VEVENT
BEGIN:VEVENT
DTSTART;TZID=America/New_York:20251104T180000
DTEND;TZID=America/New_York:20251104T200000
DTSTAMP:20260420T210313
CREATED:20251014T151747Z
LAST-MODIFIED:20251027T163335Z
UID:10000008-1762279200-1762286400@herhaus.space
SUMMARY:Start With Why by Simon Sinek
DESCRIPTION:Start With Why is a powerful read for any book club interested in leadership\, motivation\, and purpose. Sinek argues that the most successful individuals and organizations begin by identifying their core “why”—their purpose—which inspires others and drives meaningful action. Through real-world examples and practical insights\, the book encourages readers to reflect on their own motivations and how they can inspire those around them. Its engaging stories and thought-provoking questions make it perfect for sparking lively group discussions and personal growth. \nJoin us for our November book club meeting at Camino Wine Merchant. Entry is free for HerHaus members. Wine purchases OYO.
URL:https://herhaus.space/event/start-with-why-by-simon-sinek/
LOCATION:Camino Wine Merchant\, 1622 E. North St. Unit 2\, Greenville\, 29607\, United States
CATEGORIES:Book Club
END:VEVENT
BEGIN:VEVENT
DTSTART;TZID=UTC:20251006T180000
DTEND;TZID=UTC:20251006T200000
DTSTAMP:20260420T210313
CREATED:20250820T195743Z
LAST-MODIFIED:20250821T202928Z
UID:10000004-1759773600-1759780800@herhaus.space
SUMMARY:The Book Club for Troublesome Women Marie Bostwick
DESCRIPTION:Join us as we kick off the official HerHaus Book Club! HerHaus member Megan Early-Soppa will lead us in a discussion about Marie Bostwick’s The Book Club for Troublesome Women. We’ll enjoy a fantastic dinner at The Anchorage that will include a bread tasting\, vegetable or salad\, main protein and dessert. Chef will accommodate any food allergies. The cost is $55 plus tax and gratuity per person. Alcohol not included.
URL:https://herhaus.space/event/october-book-club-meeting/
LOCATION:The Anchorage\, 586 Perry Ave\, SC\, 29611\, United States
CATEGORIES:Book Club
END:VEVENT
END:VCALENDAR