BEGIN:VCALENDAR
VERSION:2.0
PRODID:-//HerHaus - ECPv6.15.18//NONSGML v1.0//EN
CALSCALE:GREGORIAN
METHOD:PUBLISH
X-ORIGINAL-URL:https://herhaus.space
X-WR-CALDESC:Events for HerHaus
REFRESH-INTERVAL;VALUE=DURATION:PT1H
X-Robots-Tag:noindex
X-PUBLISHED-TTL:PT1H
BEGIN:VTIMEZONE
TZID:America/New_York
BEGIN:DAYLIGHT
TZOFFSETFROM:-0500
TZOFFSETTO:-0400
TZNAME:EDT
DTSTART:20250309T070000
END:DAYLIGHT
BEGIN:STANDARD
TZOFFSETFROM:-0400
TZOFFSETTO:-0500
TZNAME:EST
DTSTART:20251102T060000
END:STANDARD
BEGIN:DAYLIGHT
TZOFFSETFROM:-0500
TZOFFSETTO:-0400
TZNAME:EDT
DTSTART:20260308T070000
END:DAYLIGHT
BEGIN:STANDARD
TZOFFSETFROM:-0400
TZOFFSETTO:-0500
TZNAME:EST
DTSTART:20261101T060000
END:STANDARD
BEGIN:DAYLIGHT
TZOFFSETFROM:-0500
TZOFFSETTO:-0400
TZNAME:EDT
DTSTART:20270314T070000
END:DAYLIGHT
BEGIN:STANDARD
TZOFFSETFROM:-0400
TZOFFSETTO:-0500
TZNAME:EST
DTSTART:20271107T060000
END:STANDARD
END:VTIMEZONE
BEGIN:VEVENT
DTSTART;TZID=America/New_York:20260415T000000
DTEND;TZID=America/New_York:20260415T000000
DTSTAMP:20260419T090831
CREATED:20260414T145613Z
LAST-MODIFIED:20260415T160326Z
UID:10000021-1776211200-1776211200@herhaus.space
SUMMARY:Stop and Pick the Flowers
DESCRIPTION:We’re romanticizing our lives on June 25. \nJoin us at Sassafras Flower Farm’s Monthly Flower Fest for an evening of flower picking\, wandering\, and pretending we don’t all have a million things waiting for us at home. \nYou’ll build your own bouquet\, meet some incredible women\, enjoy live music and food trucks\, and maybe—just maybe—remember what it feels like to slow down for a second. \nFor more information\, visit https://www.sassafrassflowerfarm.com/u-pick#monthly-flower-fest. \nLow effort. High reward. Very good energy.
URL:https://herhaus.space/event/stop-and-pick-the-flowers/
LOCATION:SC
CATEGORIES:Pop-Up
END:VEVENT
BEGIN:VEVENT
DTSTART;TZID=America/New_York:20260416T180000
DTEND;TZID=America/New_York:20260416T200000
DTSTAMP:20260419T090831
CREATED:20251227T200307Z
LAST-MODIFIED:20260409T131343Z
UID:10000014-1776362400-1776369600@herhaus.space
SUMMARY:The Energy of Money: Rewriting the Stories We Carry
DESCRIPTION:Money is rarely just about numbers. \nFor many women\, it’s wrapped up in fear\, scarcity\, guilt\, silence\, or the belief that there’s “only so much to go around.” We hesitate to ask for raises. We struggle to receive—compliments\, opportunities\, and money itself. We tell ourselves stories about what’s possible\, what’s appropriate\, and what we’re “allowed” to want. \nThis month’s HerHaus meetup is an invitation to gently examine — and begin to heal — our relationship with money. \nNot from a black-and-white financial planning perspective\, but from an energetic\, emotional\, and deeply human one. Together\, we’ll explore how our beliefs around money are formed\, how they show up in our work and lives\, and how shifting those beliefs can open the door to greater ease\, confidence\, and abundance. \nExpect a thoughtful\, grounded conversation that blends mindset\, lived experience\, and practical reflection — with space to learn\, share\, and reimagine what money could represent in your life. \nCome curious. Come open. Come ready to receive. \nOur Speakers \nBrandon Cabaniss\, CFP®\nBrandon is a financial advisor with Williams Wealth Management\, a Member of Advisory Services Network\, LLC\, based in South Carolina. She is passionate about helping clients build balanced\, intentional lives through thoughtful financial planning. With a background in business and client service\, Brandon brings strategic insight alongside a strong emphasis on wellness and mindfulness — guiding women toward greater financial confidence\, clarity\, and alignment. Williams Wealth Management and Advisory Services Network\, LLC are not affiliated with the 3W Project. \nDeb Bucci\, PhD\nDeb is a Fellow at the Institute for Social Innovation at Fielding Graduate University and a researcher\, educator\, and coach focused on the lived experience of well-being. Grounded in nursing\, human ecology\, and organizational development\, her work bridges research and practice to support sustainable growth\, resilience\, and human flourishing — helping individuals and organizations rethink what it means to truly thrive.
URL:https://herhaus.space/event/the-energy-of-money-rewriting-the-stories-we-carry/
LOCATION:A20\, 26 Augusta St.\, Greenville\, SC\, 29601\, United States
CATEGORIES:Monthly Meetings
END:VEVENT
BEGIN:VEVENT
DTSTART;TZID=America/New_York:20260530T140000
DTEND;TZID=America/New_York:20260530T170000
DTSTAMP:20260419T090831
CREATED:20260224T205651Z
LAST-MODIFIED:20260414T135918Z
UID:10000018-1780149600-1780160400@herhaus.space
SUMMARY:Poolside Summer Gathering
DESCRIPTION:Join us for an easy\, elevated evening to celebrate the start of summer. \nWe’re gathering at the beautiful home of HerHaus member Ashley Pastore for a relaxed\, poolside evening—think light bites\, refreshing drinks\, and meaningful conversation with women you actually want to spend time with. \nThis isn’t your typical “pool party.” Swim if you’d like\, or simply settle into a lounge chair and enjoy the atmosphere. \nWe’ll also have a few light\, optional moments designed to spark connection—just enough to make it easy to meet someone new without overcomplicating things. \nNo pressure. No agenda. Just a really good night with great women. \nKids are welcome.
URL:https://herhaus.space/event/celebrating-summer/
LOCATION:Ashley Pastore’s Home\, 120 Pentland Ct.\, Greer\, SC\, 29651\, United States
END:VEVENT
BEGIN:VEVENT
DTSTART;TZID=America/New_York:20260725T090000
DTEND;TZID=America/New_York:20260725T110000
DTSTAMP:20260419T090831
CREATED:20260414T150010Z
LAST-MODIFIED:20260414T150010Z
UID:10000019-1784970000-1784977200@herhaus.space
SUMMARY:A Morning on the Mountain
DESCRIPTION:Join us for a summer morning at Paris Mountain State Park: fresh air\, good conversation\, and just enough movement to feel like we did something good for ourselves. \nWe’ll choose a trail based on the group\, so whether you’re in the mood for a light walk or something a bit more active\, you’ll be in the right place. \nThis isn’t about pace or performance—it’s about getting outside\, connecting\, and starting the day in a way that actually feels good. \nCome solo or bring a friend. We’ll take it from there.
URL:https://herhaus.space/event/a-morning-on-the-mountain/
LOCATION:Paris Mountain State Park\, 2401 State Park Rd.\, Greenville\, SC\, 29609\, United States
CATEGORIES:Pop-Up
END:VEVENT
END:VCALENDAR