BEGIN:VCALENDAR
VERSION:2.0
PRODID:-//HerHaus - ECPv6.15.18//NONSGML v1.0//EN
CALSCALE:GREGORIAN
METHOD:PUBLISH
X-WR-CALNAME:HerHaus
X-ORIGINAL-URL:https://herhaus.space
X-WR-CALDESC:Events for HerHaus
REFRESH-INTERVAL;VALUE=DURATION:PT1H
X-Robots-Tag:noindex
X-PUBLISHED-TTL:PT1H
BEGIN:VTIMEZONE
TZID:America/New_York
BEGIN:DAYLIGHT
TZOFFSETFROM:-0500
TZOFFSETTO:-0400
TZNAME:EDT
DTSTART:20250309T070000
END:DAYLIGHT
BEGIN:STANDARD
TZOFFSETFROM:-0400
TZOFFSETTO:-0500
TZNAME:EST
DTSTART:20251102T060000
END:STANDARD
BEGIN:DAYLIGHT
TZOFFSETFROM:-0500
TZOFFSETTO:-0400
TZNAME:EDT
DTSTART:20260308T070000
END:DAYLIGHT
BEGIN:STANDARD
TZOFFSETFROM:-0400
TZOFFSETTO:-0500
TZNAME:EST
DTSTART:20261101T060000
END:STANDARD
BEGIN:DAYLIGHT
TZOFFSETFROM:-0500
TZOFFSETTO:-0400
TZNAME:EDT
DTSTART:20270314T070000
END:DAYLIGHT
BEGIN:STANDARD
TZOFFSETFROM:-0400
TZOFFSETTO:-0500
TZNAME:EST
DTSTART:20271107T060000
END:STANDARD
END:VTIMEZONE
BEGIN:VEVENT
DTSTART;TZID=America/New_York:20260530T140000
DTEND;TZID=America/New_York:20260530T170000
DTSTAMP:20260420T081116
CREATED:20260224T205651Z
LAST-MODIFIED:20260414T135918Z
UID:10000018-1780149600-1780160400@herhaus.space
SUMMARY:Poolside Summer Gathering
DESCRIPTION:Join us for an easy\, elevated evening to celebrate the start of summer. \nWe’re gathering at the beautiful home of HerHaus member Ashley Pastore for a relaxed\, poolside evening—think light bites\, refreshing drinks\, and meaningful conversation with women you actually want to spend time with. \nThis isn’t your typical “pool party.” Swim if you’d like\, or simply settle into a lounge chair and enjoy the atmosphere. \nWe’ll also have a few light\, optional moments designed to spark connection—just enough to make it easy to meet someone new without overcomplicating things. \nNo pressure. No agenda. Just a really good night with great women. \nKids are welcome.
URL:https://herhaus.space/event/celebrating-summer/
LOCATION:Ashley Pastore’s Home\, 120 Pentland Ct.\, Greer\, SC\, 29651\, United States
END:VEVENT
END:VCALENDAR